BEGIN:VCALENDAR
VERSION:2.0
PRODID:-//РИСК-АКАДЕМИЯ - АНО ДПО ИСАР - ECPv6.15.20//NONSGML v1.0//EN
CALSCALE:GREGORIAN
METHOD:PUBLISH
X-WR-CALNAME:РИСК-АКАДЕМИЯ - АНО ДПО ИСАР
X-ORIGINAL-URL:https://risk-academy.ru
X-WR-CALDESC:Events for РИСК-АКАДЕМИЯ - АНО ДПО ИСАР
REFRESH-INTERVAL;VALUE=DURATION:PT1H
X-Robots-Tag:noindex
X-PUBLISHED-TTL:PT1H
BEGIN:VTIMEZONE
TZID:UTC
BEGIN:STANDARD
TZOFFSETFROM:+0000
TZOFFSETTO:+0000
TZNAME:UTC
DTSTART:20190101T000000
END:STANDARD
END:VTIMEZONE
BEGIN:VTIMEZONE
TZID:Europe/Moscow
BEGIN:STANDARD
TZOFFSETFROM:+0300
TZOFFSETTO:+0300
TZNAME:MSK
DTSTART:20190101T000000
END:STANDARD
END:VTIMEZONE
BEGIN:VTIMEZONE
TZID:Europe/Moscow
BEGIN:STANDARD
TZOFFSETFROM:+0300
TZOFFSETTO:+0300
TZNAME:MSK
DTSTART:20190101T000000
END:STANDARD
END:VTIMEZONE
BEGIN:VEVENT
DTSTART;VALUE=DATE:20201117
DTEND;VALUE=DATE:20201120
DTSTAMP:20260423T224102
CREATED:20201109T220558Z
LAST-MODIFIED:20201109T220617Z
UID:43875-1605571200-1605830399@risk-academy.ru
SUMMARY:Russia Risk Conference 2020
DESCRIPTION:17 и 19 ноября состоится Russia Risk Conference 2020 – 16-я международная риск-конференция. Крупнейшее профессиональное событие для риск-менеджеров\, объединяющее современные подходы\, технологии и инновации в области управления банковскими рисками. \nRussia Risk Conference – традиционное место встречи CRO\, топ-менеджеров\, курирующих управление рисками\, специалистов по мониторингу и валидации рисков\, аналитиков и data scientists\, экспертов-практиков в области управления кредитными\, рыночными и операционными рисками\, специалистов управлений количественного анализа и моделирования рисков. \nФормат конференции позволит участникам: узнать о планах и готовящихся изменениях в регулировании со стороны Банка России\, обсудить влияние COVID-19 на управление рисками и траекторию выхода из пандемии\, услышать мнения лидеров и задать вопросы о стратегическом управлении рисками и принятии риска\, сформировать собственную стратегию управления рисками в условиях кризиса и ограничений стандартных моделей. \n2-х дневная программа конференции представит текущие и предстоящие изменения в области финансового риск-менеджмента\, и включает самые актуальные темы: направления развития банковского регулирования в России\, киберриски и риски информбезопасности\, коррекция моделей кредитного риска и новые источники данных\, Data Science в кредитном процессе\, операционные риски и профессиональная ответственность персонала и искусственного интеллекта\, риски финансовых рынков\, нелинейные процентные риски банковской книги\, корпоративная культура и ее влияние на диалог бизнеса с риск-менеджментом\, новые алгоритмы мониторинга экономической ситуации\, климатические риски и природный капитал\, цифровые финансовые активы и децентрализованные финансы (DeFi) \nВ программу войдут выступления ведущих международных экспертов\, дискуссия директоров по рискам\, аналитические обзоры\, панельные дискуссии и кейсы лидеров рынка: Банк России\, Альфа-Банк\, Банк Открытие\, Сбербанк\, ВТБ\, Газпромбанк\, Промсвязьбанк\, Россельхозбанк\, ОТП Банк\, SBI Bank\, Deloitte\, Bloomberg и др. \nХэдлайнеры конференции: \nАлексей Лобанов\, Директор департамента банковского регулирования Банка России \nDavid R. Koenig\, со-основатель PRMIA\, автор книг по риск-менеджменту\, CEO DCRO \nAlan Laubsch\, со-основатель RiskMetrics\, генеральный директор Generation Blue \nЕкатерина Трофимова\, экс-директор АКРА\, партнер Deloitte \nОрганизаторы: \nМеждународная ассоциация профессиональных риск-менеджеров\, PRMIA \nКомпания\, Conglomerat \nДаты: 17 и 19 ноября \nРегистрация участников: www.riskconference.ru
URL:https://risk-academy.ru/event/russia-risk-conference-2020/
CATEGORIES:Конференции
ATTACH;FMTTYPE=image/png:https://raruswebsite.s3.amazonaws.com/wp-content/uploads/2020/11/10104148/124139035_829242047829419_6691284080634604429_n.png
END:VEVENT
BEGIN:VEVENT
DTSTART;VALUE=DATE:20201007
DTEND;VALUE=DATE:20201009
DTSTAMP:20260423T224102
CREATED:20200226T204816Z
LAST-MODIFIED:20200226T204816Z
UID:33355-1602028800-1602201599@risk-academy.ru
SUMMARY:XV Ежегодная конференция «Комплексная безопасность бизнеса и противодействие хищениям»\, 7-8 октября 2020г.\, Москва
DESCRIPTION:Ассоциация «Объединение сертифицированных специалистов по расследованию хищений» и Институт внутренних аудиторов проводят XV Ежегодную конференцию «Комплексная безопасность бизнеса и противодействие хищениям»  7-8 октября 2020г.\, в г. Москве (гостиница «Золотое кольцо»\, ул. Смоленская\, д. 5). \nТехнологическая революция последних лет радикально меняет ландшафт безопасности бизнеса. С одной стороны\, появляются новые возможности автоматизированного контроля\, использующие технологии интернета вещей (IoT)\, больших данных (big data)\, элементов искусственного интеллекта (ИИ). Всё больше информации перемещается из «реального» мира в «виртуальный» и всё больше решений принимается компьютерными программами. С другой стороны\, роль человека не снижается\, как этого можно было ожидать\, а становится всё более определяющей в управлении процессами\, а цена его ошибки или злоупотребления – выше. \nНа юбилейной конференции по безопасности бизнеса обменяются опытом и обсудят наиболее актуальные темы защиты современного бизнеса: \n\nСамые важные изменения и тенденции в области организации безопасности бизнеса.\nОрганизация противодействия хищениям в компании. Опыт создания комплексной antifraud системы.\nПроведение внутренних расследований. Интересные приёмы и кейсы.\nЛояльность персонала. Как она влияет на безопасность бизнеса и как сделать персонал лояльным.\nКорпоративная культура как инструмент защиты бизнеса. Что это такое\, как она создаётся и работает\, как её аудировать.\nЧеловеческий фактор и катастрофические события в бизнес-процессах. Что такое «человеческий фактор» и как снизить его влияние на бизнес.\nИнформационная безопасность и риски бизнеса. Как аудитор\, не имеющий специального ИТ образования\, может оценить безопасность информационную безопасность в компании. Социальная инженерия и информационная безопасность.\nТехнологии интернета вещей во внутреннем контроле. Как организовать или оптимизировать внутренний контроль с помощью технологий интернета вещей. Как использовать большие данные во внутреннем контроле и оценке рисков.\nНовая теория внутреннего контроля. Унификация и автоматизация контрольных процедур\, применение методов интеллидженс и оценки рисков в контрольных процедурах.\nОценка рисков хищений как инструмент снижения уровня хищений в компании. Как внедрить систему оценки рисков злоупотреблений в компании и какой она даёт эффект.\n\nСкидка 50% действует до 31.03.2020г. \nБонусы участникам: \n\nБесплатное участие в вебинарах российского отделения ACFE до конференции и полгода после конференции.\nПрезентации спикеров конференций по комплексной безопасности бизнеса и противодействию хищениям за последние 5 лет.\n\nБолее подробную информацию о мероприятии можно найти по ссылке. \nПо всем вопросам обращайтесь к Эндже Камалиевой (Исполнительный директор\, \nРоссийское отделение ACFE)\, info@acfe-rus.org\, +7 (495) 728-76-10.
URL:https://risk-academy.ru/event/xv-%d0%b5%d0%b6%d0%b5%d0%b3%d0%be%d0%b4%d0%bd%d0%b0%d1%8f-%d0%ba%d0%be%d0%bd%d1%84%d0%b5%d1%80%d0%b5%d0%bd%d1%86%d0%b8%d1%8f-%d0%ba%d0%be%d0%bc%d0%bf%d0%bb%d0%b5%d0%ba%d1%81%d0%bd%d0%b0%d1%8f/
LOCATION:гостиница «Золотое кольцо»\, ул. Смоленская\, д. 5\, Moscow\, Russian Federation
CATEGORIES:Конференции
ATTACH;FMTTYPE=image/jpeg:https://raruswebsite.s3.amazonaws.com/wp-content/uploads/2020/02/10130327/%D0%A4%D0%BE%D1%82%D0%BE-%D0%BA%D0%BE%D0%BD%D1%84%D0%B5%D1%80%D0%B5%D0%BD%D1%86%D0%B8%D0%B8-scaled.jpg
ORGANIZER;CN="ACFE":MAILTO:info@acfe-rus.org
END:VEVENT
BEGIN:VEVENT
DTSTART;VALUE=DATE:20200914
DTEND;VALUE=DATE:20201006
DTSTAMP:20260423T224102
CREATED:20200916T074627Z
LAST-MODIFIED:20200916T074711Z
UID:41676-1600041600-1601942399@risk-academy.ru
SUMMARY:Примите участие в исследовании уровня зрелости управления рисками 2020
DESCRIPTION:Компания «Делойт»\, СНГ совместно с Институтом стратегического анализа рисков и порталом http://www.risk-academy.ru приглашает вас принять участие в исследовании уровня зрелости управления рисками в России\, Республике Казахстан и Республике Беларусь. \nЦель данного исследования — предоставить руководителям и риск-менеджерам инструмент для самостоятельной оценки текущего уровня зрелости и оценки эффективности управления рисками в соответствии с принципами стандарта ISO31000 (и национальных стандартов\, разработанных на его основе) и лучшей мировой практикой. \nИсследование состоит из отдельных вопросов для риск-менеджеров и отдельных вопросов для членов Совета директоров/ исполнительного руководства. В исследование этого года дополнительно включены вопросы о роли управления рисками в условиях COVID-19. \nДля того чтобы пройти опрос\, пожалуйста пройдите по ссылке для риск-менеджеров или по ссылке для членов Совета директоров/ исполнительного руководства. \nУчастие в опросе займет у вас не более 15 минут. \nИсследование проводится до 05 октября 2020 года. Его результаты в агрегированном виде будут доступны для скачивания после его завершения. \nМы гарантируем соблюдение конфиденциальности информации во время проведения исследования и в ходе анализа данных. \nПо завершении исследования участникам будут направлены его результаты и приглашение на участие в мероприятии\, посвященном презентации результатов. \nВаше мнение важно для нас! \nРезультаты опроса можно использовать для следующих целей: \n\nУровень зрелости системы управления рисками\nУправление рисками\nАналитика\nВыявление недостатков\nВыявление недостатков\n\nНачните с определения текущего уровня зрелости системы управления рисками в вашей организации и ее видения в будущем. \n\nЕсли у вас возникнут вопросы или технические сложности при заполнении формы\, вы можете обратиться к Потапову Кириллу по телефону +7 (495) 787 06 00 (доб. 1458) или по электронной почте kpotapov@deloitte.ru.
URL:https://risk-academy.ru/event/%d0%bf%d1%80%d0%b8%d0%bc%d0%b8%d1%82%d0%b5-%d1%83%d1%87%d0%b0%d1%81%d1%82%d0%b8%d0%b5-%d0%b2-%d0%b8%d1%81%d1%81%d0%bb%d0%b5%d0%b4%d0%be%d0%b2%d0%b0%d0%bd%d0%b8%d0%b8-%d1%83%d1%80%d0%be%d0%b2%d0%bd/
CATEGORIES:Конференции
ATTACH;FMTTYPE=image/jpeg:https://raruswebsite.s3.amazonaws.com/wp-content/uploads/2020/09/10105949/2020.jpg
END:VEVENT
BEGIN:VEVENT
DTSTART;VALUE=DATE:20200826
DTEND;VALUE=DATE:20200827
DTSTAMP:20260423T224102
CREATED:20200819T184515Z
LAST-MODIFIED:20200821T001815Z
UID:40417-1598400000-1598486399@risk-academy.ru
SUMMARY:Отражение влияния климатических рисков в финансовой отчетности кредитных организаций
DESCRIPTION:Когда: 26 августа 15:00 — 17:00 \nУчастие бесплатно \nРЕГИСТРАЦИЯ \nПрограмма. Главные вопросы \n\nТенденции и тренды заданные Банком России в Докладе Банка России «Влияние климатических рисков и устойчивое развитие финансового сектора Российской Федерации»\nОтражение влияния климатических рисков в финансовой отчетности банков (рекомендации TCFD)\n\nНефинансовая информация в финансовой отчетности сегодня\nЧто еще необходимо пользователям финансовой отчетности?\nНефинансовая отчетность как источник информации о ESG-рисках и управлении ими\nОтражение финансовой оценки влияния нефинансовых факторов — важнейшая задача финансовой отчетности\nБанковский сектор: устойчивое развитие и климатические риски\nНеобходимость оценки и отражения влияния климатических рисков в финансовой отчетности\nРекомендации Рабочей группы по финансовым раскрытиям\, связанным с изменением климата (Task Force on Climate-related Financial Disclosures (TCFD)\n\n\nПрактика отражения эффекта от климатических рисков в отчетности по МСФО кредитных организаций\nСессия вопросов и ответов\n\nРЕГИСТРАЦИЯ \nСпикеры \nВладимир Скобарев\nПартнер\, Директор\, Департамент корпоративного управления и устойчивого развития\nSkobarevV@fbk.ru \nАнастасия Терехина\nЗаместитель директора\, Департамент аудиторских и консультационных услуг финансовым институтам\nTerekhinaA@fbk.ru \, bank@fbk.ru \nМайя Савицкая\nМенеджер\, Департамент аудиторских и консультационных услуг финансовым институтам\nMayya.Savitskaya@fbk.ru \, bank@fbk.ru \nОтзывы и оценки прошлых вебинаров \n«Тема вебинара невероятно актуальна в настоящее время\, четко изложены параметры Плана непрерывности\, поставлены интересные вопросы слушателям\, спасибо!» \n«Очень полезный семинар! Лектор прекрасно владеет материалом» \n«Спасибо за ваши вебинары. Это всегда очень полезно\, и с каждым разом проясняют все больше и больше» \nБудем рады видеть Вас! \nМы направим Вам материалы встречи после онлайн трансляции. \nРЕГИСТРАЦИЯ
URL:https://risk-academy.ru/event/%d0%be%d1%82%d1%80%d0%b0%d0%b6%d0%b5%d0%bd%d0%b8%d0%b5-%d0%b2%d0%bb%d0%b8%d1%8f%d0%bd%d0%b8%d1%8f-%d0%ba%d0%bb%d0%b8%d0%bc%d0%b0%d1%82%d0%b8%d1%87%d0%b5%d1%81%d0%ba%d0%b8%d1%85-%d1%80%d0%b8%d1%81/
CATEGORIES:Конференции
ATTACH;FMTTYPE=image/jpeg:https://raruswebsite.s3.amazonaws.com/wp-content/uploads/2020/08/10110752/%D0%B2%D0%B5%D0%B1%D0%B8%D0%BD%D0%B0%D1%80-26.08.jpg
ORGANIZER;CN="%D0%9A%D0%BE%D0%BC%D0%BF%D0%B0%D0%BD%D0%B8%D1%8F %D0%A4%D0%91%D0%9A":MAILTO:fbk@fbk.ru
END:VEVENT
BEGIN:VEVENT
DTSTART;VALUE=DATE:20200820
DTEND;VALUE=DATE:20200821
DTSTAMP:20260423T224102
CREATED:20200810T184653Z
LAST-MODIFIED:20200810T184813Z
UID:40072-1597881600-1597967999@risk-academy.ru
SUMMARY:Вебинар Как поставить типовые проекты на поток
DESCRIPTION:Многие процедуры в проектной деятельности — типовые. Из раза в раз внутри проектов согласуется проектная документация\, происходит поиск подрядчика по тендеру\, оформляются закупки материалов и т.д. При этом сохраняется специфика проектной деятельности — не все можно формализовать и описать как сквозной бизнес-процесс. \nУчаствуйте в бесплатном вебинаре «Как поставить на поток типовые проекты: отлаженные процессы для проектных бизнесов». \nПоговорим\, как синергия проектного управления и процессного подхода решает следующие проблемы: \n\nПроекты похожи друг на друга\, но каждый раз приходится изобретать локальные решения.\nРуководители проектов допускают похожие ошибки.\nНовые сотрудники долго вливаются в рабочий процесс\, что дорого для компании.\nТратится много времени\, чтобы понять статус проекта и набор шагов для закрытия этапа или проекта.\n\nКогда: 20 августа в 11:00 по мск. \nВебинар будет интересен: \n\nРуководителям проектного офиса\nРуководителям проектов\nДиректорам по развитию\nОперационным директорам\nДиректорам по ИТ\, бизнес-аналитикам\n\nПереходите по ссылке и регистрируйтесь
URL:https://risk-academy.ru/event/%d0%b2%d0%b5%d0%b1%d0%b8%d0%bd%d0%b0%d1%80-%d0%ba%d0%b0%d0%ba-%d0%bf%d0%be%d1%81%d1%82%d0%b0%d0%b2%d0%b8%d1%82%d1%8c-%d1%82%d0%b8%d0%bf%d0%be%d0%b2%d1%8b%d0%b5-%d0%bf%d1%80%d0%be%d0%b5%d0%ba%d1%82/
CATEGORIES:Конференции
ATTACH;FMTTYPE=image/png:https://raruswebsite.s3.amazonaws.com/wp-content/uploads/2020/08/10111013/FB.png
END:VEVENT
BEGIN:VEVENT
DTSTART;TZID=Europe/Moscow:20200728T110000
DTEND;TZID=Europe/Moscow:20200728T130000
DTSTAMP:20260423T224102
CREATED:20200723T175724Z
LAST-MODIFIED:20200723T175727Z
UID:39338-1595934000-1595941200@risk-academy.ru
SUMMARY:РЕАЛЬНЫЙ ПРОЕКТНЫЙ РИСК-МЕНЕДЖМЕНТ (PRM) ОТ ТЕОРИИ К ПРАКТИКЕ
DESCRIPTION:RЕАЛЬНЫЙ ПРОЕКТНЫЙ РИСК-МЕНЕДЖМЕНТ (PRM): ОТ ТЕОРИИ К ПРАКТИКЕ\n\nПриглашаем на очередной онлайн-семинар посвященный управлению рисками в проектной деятельности.\nСеминар состоится 28 июля в 11-00.\n\nВ рамках онлайн семинара обсудим реально применявшиеся и показавшие хорошие и отличные результаты инструменты управления рисками в проектах.\n\nДля участия необходимо зарегистрироваться – https://lig.timepad.ru/event/1373774/.\n\nВ мероприятии принимают участие: \n\nЭксперт –  Алексей Белков\, PMP\, AT31000\, CRMP\nВедущий — Александр Зубрицкий\, PMP\, MVP\n\n 
URL:https://risk-academy.ru/event/%d1%80%d0%b5%d0%b0%d0%bb%d1%8c%d0%bd%d1%8b%d0%b9-%d0%bf%d1%80%d0%be%d0%b5%d0%ba%d1%82%d0%bd%d1%8b%d0%b9-%d1%80%d0%b8%d1%81%d0%ba-%d0%bc%d0%b5%d0%bd%d0%b5%d0%b4%d0%b6%d0%bc%d0%b5%d0%bd%d1%82-prm/
CATEGORIES:Конференции
ATTACH;FMTTYPE=image/jpeg:https://raruswebsite.s3.amazonaws.com/wp-content/uploads/2020/07/10112419/workingsmarter.jpg
END:VEVENT
BEGIN:VEVENT
DTSTART;VALUE=DATE:20200603
DTEND;VALUE=DATE:20200606
DTSTAMP:20260423T224102
CREATED:20200429T123750Z
LAST-MODIFIED:20200429T123750Z
UID:35435-1591142400-1591401599@risk-academy.ru
SUMMARY:ОНЛАЙН: Непрерывность Бизнеса и Антикризисное Управление
DESCRIPTION:НЕПРЕРЫВНОСТЬ БИЗНЕСА И АНТИКРИЗИСНОЕ УПРАВЛЕНИЕ\nОбеспечение устойчивости бизнеса в кризисное время \nПрактически каждая компания в мире за последние недели претерпела значительные изменения в своих приоритетах. Для удержания позиций бизнес вынужден адаптироваться к новым\, стремительно меняющимся реалиям и оперативно принимать важные решения для бизнеса. Команда MSB Events понимает\, что в это непростое время очень важно сохранять связь с коллегами по рынку и обмениваться информацией в доступных форматах. С этой целью мы анонсируем онлайн-конференцию «Непрерывность бизнеса и антикризисное управление»\, которая даст возможность обсудить наиболее острые вопросы обеспечения устойчивости бизнеса\, обменяться важными идеями и наработками о том\, как поддерживать бесперебойную работу в полностью обновленной деловой среде. \nПриглашаем вас присоединиться к работе онлайн-конференции! Скажите РИСК-АКАДЕМИЯ и получите специальные\, выгодные условия при регистрации. Для получения подробной информации обращайтесь по адресу ekaterina@msbevent.com.
URL:https://risk-academy.ru/event/business-continuity/
CATEGORIES:Конференции
ATTACH;FMTTYPE=image/jpeg:https://raruswebsite.s3.amazonaws.com/wp-content/uploads/2020/04/10120059/pic.jpg
ORGANIZER;CN="MSB Events":MAILTO:ekaterina@msbevent.com
END:VEVENT
BEGIN:VEVENT
DTSTART;VALUE=DATE:20200413
DTEND;VALUE=DATE:20200418
DTSTAMP:20260423T224102
CREATED:20200212T055724Z
LAST-MODIFIED:20200324T163719Z
UID:32810-1586736000-1587167999@risk-academy.ru
SUMMARY:ОНЛАЙН: Неделя Риск Менеджмента 2020
DESCRIPTION:Примите участие в крупнейшей русскоязычной онлайн конференции «Неделя риск менеджмента»\, которая пройдет с 13 по 17 апреля 2020 года! Лучшие мировые и российские эксперты по управлению рисками проведут онлайн мастер-классы. \nБЕСПЛАТНЫЕ БИЛЕТЫ ПО ССЫЛКЕ https://russia.riskawarenessweek.com/ \n1. Четырнадцать мировых экспертов в области управления рисками и принятия решений поделятся своими практическими кейсами \nУчитесь у лучших мировых экспертов по управлению рисками и принятию решений. Каждый спикер прошел тщательный отбор и поделится с нашими участниками практическими кейсами или проведет мастер-класс по риск менеджменту 2. Каждая презентация продумана таким образом\, чтобы быть интересной как для риск менеджеров\, так и для руководителей\, принимающих решения. Это уникальная возможность наглядно показать полезность риск менеджмента вашим руководителям. \n2. Лучшие российские спикеры поделятся своим опытом\, нам тоже есть чем гордится \nЛучшие русскоязычные риск менеджеры поделятся своими кейсами\, покажут модели и проведут мастер-классы для участников конференции. Кстати\, если вы хотите выступить на конференции\, еще не поздно\, напишите в комментариях. \n3. Уникальная информация прямо у вас в телефоне или на компьютере\, в удобное для вас время \nБолее 30 интерактивных семинаров по теме принятия решений с учетом рисков\, которые вы можете посмотреть\, чтобы перенять идеи и внедрить их для своего бизнеса. Все презентации вы сможете посмотреть на своем компьютере или мобильном телефоне. Вы находитесь в другом часовом поясе? Нет проблем\, вы сможете просматривать записи всех семинаров\, на которые вы зарегистрировались\, они будут доступны неограниченное количество времени\, поэтому у вас всегда будет возможность пересмотреть их в любое время. \n4. Участие бесплатное \nВместе с сотнями других участников вы сможете использовать платформу RAW2020 для поиска решений\, клиентов или партнеров (кстати в RAW2019 на английском приняли участие более 3000 человек из 121 страны). Используйте возможности этого онлайн-мероприятия в полном объеме: принимайте активное участие в семинарах\, задавайте вопросы\, общайтесь с другими участниками\, отправляйте вопросы организаторам\, дайте нам знать\, какие темы или тематические исследования вам интересны\, оставляйте отзывы. А самое главное участие в конференции совершенно бесплатное. \n5. Внедряйте только то\, что уже доказало свою работоспособность \nУзнайте от лучших практиков в области риск-менеджмента и принятия решений о проблемах\, с которыми они столкнулись при внедрении риск менеджмента в организационные процессы и культуры своих компаний\, и как они с ними справились. Узнайте\, как применять инструменты риск менеджмента при планировании\, составлении бюджета\, принятии решений и управлении эффективностью деятельности. Узнайте\, как измерить и проанализировать риски и их влияние на цели. Узнайте\, как установить цели и измерить корпоративную эффективность с помощью инструментов управления рисками. \nВам понравилось то\, что мы запланировали? Помогите нам повысить уровень осведомленности о риск менеджменте. Поделиться этой страницей. Пригласите своих коллег\, которые работают в сфере рисков\, а также коллег из других сфер. \nБЕСПЛАТНЫЕ БИЛЕТЫ ПО ССЫЛКЕ https://russia.riskawarenessweek.com/
URL:https://risk-academy.ru/event/risk-awareness-week-russia/
CATEGORIES:Конференции
ATTACH;FMTTYPE=image/jpeg:https://raruswebsite.s3.amazonaws.com/wp-content/uploads/2020/02/10131205/84960783_10156484275587142_605219836137570304_n.jpg
END:VEVENT
BEGIN:VEVENT
DTSTART;TZID=Europe/Moscow:20200302T163000
DTEND;TZID=Europe/Moscow:20200302T193000
DTSTAMP:20260423T224102
CREATED:20200221T182247Z
LAST-MODIFIED:20200221T182247Z
UID:33188-1583166600-1583177400@risk-academy.ru
SUMMARY:Встреча Клуба WOMEN@RISK
DESCRIPTION:Дорогие девушки! \nВ преддверии Международного женского дня мы открываем новую серию встреч клуба WOMEN@RISK по риск-ориентированному принятию решений для женщин\, непосредственно сталкивающихся с потребностью учитывать риски в процессе своей профессиональной деятельности: руководителей своего бизнеса или подразделений организаций\, риск-менеджеров\, внутренних контроллеров и внутренних аудиторов. \nНа первой встрече вместе с Ольгой Котиной\, одной из основательниц нашего клуба\, мы поговорим о психологии принятия решений и когнитивных искажениях\, обсудим необходимость и преимущества риск-ориентированного мышления в практике управления. Продолжим мероприятие разбором бизнес-кейсов для получения навыков выявления и предотвращения ментальных ловушек. \nВ качестве дополнительного бонуса вы узнаете\, как результаты нашей стратегической сессии помогли сформировать миссию и видение клуба. Изюминкой этого вечера станут легкие коктейли на основе игристых вин. \n2 мата 2020 в 16:30\, ул. Лесная\, 5\, строение Б\, 2 этаж\nУчастие бесплатно\, необходима регистрация: \n\n	Notice: JavaScript is required for this content.
URL:https://risk-academy.ru/event/%d0%b2%d1%81%d1%82%d1%80%d0%b5%d1%87%d0%b0-%d0%ba%d0%bb%d1%83%d0%b1%d0%b0-womenrisk/
LOCATION:Офис Делойт\, ул. Лесная\, 5\, строение Б\, Москва\, Russian Federation
CATEGORIES:Конференции
ATTACH;FMTTYPE=image/jpeg:https://raruswebsite.s3.amazonaws.com/wp-content/uploads/2020/02/10130551/87150590_10156512519632142_543457776924360704_o.jpg
END:VEVENT
END:VCALENDAR